BEGIN:VCALENDAR
VERSION:2.0
PRODID:icalendar-ruby
CALSCALE:GREGORIAN
METHOD:PUBLISH
DESCRIPTION:Plantings by PunkNPoultry
BEGIN:VEVENT
DTSTAMP:20260426T012126Z
UID:ddc2cd41-01ed-47c7-add8-d83e5cdb1fc1
DTSTART:20260425T163923
DTEND:20260427T012126
CLASS:PUBLIC
DESCRIPTION:Quantity: 6\nPlanted on: 2026-04-25\nSunniness: sun\nPlanted fr
 om: seed\nFirst harvest from: unknown\nLast harvest from: unknown\nFinish 
 predicted at: unknown\nFinished at: unknown\nPink Beauty.
SUMMARY:amaranth
URL;VALUE=URI:https://www.growstuff.org/plantings/punknpoultry-garden-amara
 nth
END:VEVENT
BEGIN:VEVENT
DTSTAMP:20260426T012126Z
UID:9c1dfd1f-da8b-4302-bb15-ef5fe173661a
DTSTART:20260425T164107
DTEND:20260507T000000
CLASS:PUBLIC
DESCRIPTION:Quantity: 5\nPlanted on: 2026-03-12\nSunniness: sun\nPlanted fr
 om: seed\nFirst harvest from: unknown\nLast harvest from: unknown\nFinish 
 predicted at: 2026-05-07\nFinished at: unknown\nGarden Leader Monster. 85-
 90
SUMMARY:watermelon
URL;VALUE=URI:https://www.growstuff.org/plantings/punknpoultry-garden-water
 melon-radish
END:VEVENT
BEGIN:VEVENT
DTSTAMP:20260426T012126Z
UID:2140e70d-6af0-4fc1-bed2-cbd45f2977fd
DTSTART:20260507T000000
DTEND:20260507T000000
CLASS:PUBLIC
SUMMARY:Harvest watermelon
URL;VALUE=URI:https://www.growstuff.org/plantings/punknpoultry-garden-water
 melon-radish
END:VEVENT
BEGIN:VTODO
DTSTAMP:20260426T012126Z
UID:b195945f-d0b7-4d87-9b49-55d4010931ab
DTSTART:20260507T000000
DUE:20260507T000000
SUMMARY:Harvest watermelon
END:VTODO
END:VCALENDAR

